BEGIN:VCALENDAR
VERSION:2.0
PRODID:-//Jaarcirkels - ECPv6.5.0//NONSGML v1.0//EN
CALSCALE:GREGORIAN
METHOD:PUBLISH
X-WR-CALNAME:Jaarcirkels
X-ORIGINAL-URL:https://jaarcirkels.nl
X-WR-CALDESC:Evenementen voor Jaarcirkels
REFRESH-INTERVAL;VALUE=DURATION:PT1H
X-Robots-Tag:noindex
X-PUBLISHED-TTL:PT1H
BEGIN:VTIMEZONE
TZID:Europe/Paris
BEGIN:DAYLIGHT
TZOFFSETFROM:+0100
TZOFFSETTO:+0200
TZNAME:CEST
DTSTART:20230326T010000
END:DAYLIGHT
BEGIN:STANDARD
TZOFFSETFROM:+0200
TZOFFSETTO:+0100
TZNAME:CET
DTSTART:20231029T010000
END:STANDARD
BEGIN:DAYLIGHT
TZOFFSETFROM:+0100
TZOFFSETTO:+0200
TZNAME:CEST
DTSTART:20240331T010000
END:DAYLIGHT
BEGIN:STANDARD
TZOFFSETFROM:+0200
TZOFFSETTO:+0100
TZNAME:CET
DTSTART:20241027T010000
END:STANDARD
BEGIN:DAYLIGHT
TZOFFSETFROM:+0100
TZOFFSETTO:+0200
TZNAME:CEST
DTSTART:20250330T010000
END:DAYLIGHT
BEGIN:STANDARD
TZOFFSETFROM:+0200
TZOFFSETTO:+0100
TZNAME:CET
DTSTART:20251026T010000
END:STANDARD
END:VTIMEZONE
BEGIN:VEVENT
DTSTART;TZID=Europe/Paris:20250921T100000
DTEND;TZID=Europe/Paris:20250921T163000
DTSTAMP:20260419T214726
CREATED:20250429T150310Z
LAST-MODIFIED:20250429T150310Z
UID:1617-1758448800-1758472200@jaarcirkels.nl
SUMMARY:Start cursus Astro Soul Art 2025/2026
DESCRIPTION:Een reis van negen zondagen van september 2025 tot en met april 2026 door jouw horoscoop. Om zowel jezelf\, als de astrologie als het kunstzinnig werken te leren kennen en te verdiepen. Voor meer informatie zie de bijgevoegde link.
URL:https://jaarcirkels.nl/event/start-cursus-astro-soul-art-2025-2026/
LOCATION:De Verbindende Factor\, Wettenseind 4\, Nuenen\, Nederland
ORGANIZER;CN="Jaarcirkels":MAILTO:info@jaarcirkels.nl
END:VEVENT
BEGIN:VEVENT
DTSTART;TZID=Europe/Paris:20250511T100000
DTEND;TZID=Europe/Paris:20250511T163000
DTSTAMP:20260419T214726
CREATED:20250429T064422Z
LAST-MODIFIED:20250429T064422Z
UID:1612-1746957600-1746981000@jaarcirkels.nl
SUMMARY:Workshop Leef de Godin
DESCRIPTION:
URL:https://jaarcirkels.nl/event/workshop-leef-de-godin/
LOCATION:De Verbindende Factor\, Wettenseind 4\, Nuenen\, Nederland
ORGANIZER;CN="Jaarcirkels":MAILTO:info@jaarcirkels.nl
END:VEVENT
BEGIN:VEVENT
DTSTART;TZID=Europe/Paris:20230321T193000
DTEND;TZID=Europe/Paris:20230321T213000
DTSTAMP:20260419T214726
CREATED:20230306T162022Z
LAST-MODIFIED:20230306T162022Z
UID:1259-1679427000-1679434200@jaarcirkels.nl
SUMMARY:Welkom in de Rode Tent Midden-Limburg
DESCRIPTION:De Rode Tent is een VrouwenCirkel onder de Donkere Maan.\nVanuit Jaarcirkels creëert Yvette samen met Nicole Joosten vanaf maart een plek voor jou. Een plek om je voor een paar uur helemaal terug te trekken uit je dagelijkse zorgen en even niets te moeten. \nIn een Rode Tent komen vrouwen in een Cirkel bij elkaar: vrouwen en meisjes van alle leeftijden en achtergronden zijn hier welkom. \nHet is een plek om te delen in de wetenschap dat wat er gedeeld wordt tussen de Rode lappen blijft. De hilarische en de verdrietige verhalen. De zorgen die je met je meedraagt en soms ook  heel kwetsbare verhalen van jou zijn daar veilig. We creëren een plek waar kan worden gepraat\, gezwegen\, gelachen\, gehuild\, geknuffeld\, gedanst\, gemediteerd\, gelounged\, gemasseerd… Veel mag en niets moet. Soms is alleen maar zijn\, bijkomen\, liggen en luisteren is ook prima! \nWe delen de verhalen van ons leven en we luisteren zonder oordeel en met respect voor elkaar. Er hoeven geen oplossingen en adviezen te worden aangedragen; gehoord en gezien worden\, daar gaat het om. \nKosten? Een vrijwillige bijdrage (richtlijn is €5\,-) \nNoteer alvast de volgende data in jouw agenda: Donderdag 20 april\, vrijdag 19 mei\, zondag 18 juni\, maandag 17 juli\, woensdag 16 augustus en vrijdag 15 september.
URL:https://jaarcirkels.nl/event/welkom-in-de-rode-tent-midden-limburg/
ATTACH;FMTTYPE=image/jpeg:https://jaarcirkels.nl/wp-content/uploads/2021/09/Rode-tent.jpg
END:VEVENT
BEGIN:VEVENT
DTSTART;TZID=Europe/Paris:20230308T080000
DTEND;TZID=Europe/Paris:20230321T083000
DTSTAMP:20260419T214726
CREATED:20230122T124309Z
LAST-MODIFIED:20230308T085635Z
UID:1242-1678262400-1679387400@jaarcirkels.nl
SUMMARY:Instapmoment Online Keltisch Maanjaar
DESCRIPTION:De poort gaat open…\nDe poort naar een diepere verbinding met jezelf staat weer open. De poort om je via het Keltisch gedachtengoed te verbinden met de natuur\, met jezelf. Voel je het verlangen om een diepere verbinding te ervaren met jezelf\, met het leven? En wil je dat graag vanuit thuis doen? Met de natuur die jou omringt? Elke maan(d) gaat de poort naar het online programma open. \nDat moment is iedere keer als de Maan en de Zon samen staan; de zogenoemde Donkere Maan. Op dit donkerste punt in een Maancyclus zit de start van een nieuw begin. Een cyclus  om te groeien\, bloeien en af te laten sterven. In het online programma beleef je twaalf manen lang opnieuw dit ritme. Het ritme van de natuur; jouw ritme van leven. \nDe kosten bedragen € 121\,- per jaar en omvat verhalen\, (creatieve) opdrachten en een reflectieverslag met online coaching.  Meld je aan via info@jaarcirkels.nl en stap deze poort onder de donkere maan het Keltisch Maanjaar in. \nJe bent zó welkom! \nYvette
URL:https://jaarcirkels.nl/event/instapmoment-online-keltisch-maanjaar/
ATTACH;FMTTYPE=image/jpeg:https://jaarcirkels.nl/wp-content/uploads/2021/07/IMG_9972-scaled.jpg
ORGANIZER;CN="Jaarcirkels":MAILTO:info@jaarcirkels.nl
END:VEVENT
BEGIN:VEVENT
DTSTART;TZID=Europe/Paris:20230205T090000
DTEND;TZID=Europe/Paris:20230205T123000
DTSTAMP:20260419T214726
CREATED:20230121T205317Z
LAST-MODIFIED:20230122T105915Z
UID:1212-1675587600-1675600200@jaarcirkels.nl
SUMMARY:Imbolc - Volle maan wandeling
DESCRIPTION:Wil je kennismaken met Jaarcirkels? Ervaren hoe het is om te bewegen met het ritme van de Keltische Maankalender?\nZondag 5 februari organiseert Jaarcirkels een wandeling voor vrouwen. Het is deze dag Volle Maan. Deze Maan is verbonden aan Imbolc. Im-bolg (in de buik) is een van de acht jaarfeesten verbonden aan het Jaarwiel. Dit jaarfeest gaat over de eerste lentekriebels die voelbaar worden in de komende tijd. Het is een tijd om te reinigen\, te vieren en te verbinden. \nOp zondagochtend 9.00 uur verzamelen we in het Leudal (nadere locatie volgt na aanmelding). We wandelen in stilte en tussendoor zijn er momenten om te delen en te vieren. De vermoedelijke eindtijd ligt rond 12.30 uur. \nNa aanmelding ontvang je een mail met informatie en een kleine opdracht om je voor te bereiden. De kosten bedragen € 15\,-. Aanmelden kan via info@jaarcirkels.nl \nIk kijk uit naar jouw komst! \nHartegroet\, \nYvette \n 
URL:https://jaarcirkels.nl/event/imbolc-volle-maan-wandeling/
ATTACH;FMTTYPE=image/jpeg:https://jaarcirkels.nl/wp-content/uploads/2019/09/IMG_6341.jpg
ORGANIZER;CN="Jaarcirkels":MAILTO:info@jaarcirkels.nl
END:VEVENT
END:VCALENDAR